BEGIN:VCALENDAR
VERSION:2.0
PRODID:-//Richland Township Fire Deptartment - ECPv6.15.20//NONSGML v1.0//EN
CALSCALE:GREGORIAN
METHOD:PUBLISH
X-WR-CALNAME:Richland Township Fire Deptartment
X-ORIGINAL-URL:https://richlandfire.com
X-WR-CALDESC:Events for Richland Township Fire Deptartment
REFRESH-INTERVAL;VALUE=DURATION:PT1H
X-Robots-Tag:noindex
X-PUBLISHED-TTL:PT1H
BEGIN:VTIMEZONE
TZID:America/New_York
BEGIN:DAYLIGHT
TZOFFSETFROM:-0500
TZOFFSETTO:-0400
TZNAME:EDT
DTSTART:20240310T070000
END:DAYLIGHT
BEGIN:STANDARD
TZOFFSETFROM:-0400
TZOFFSETTO:-0500
TZNAME:EST
DTSTART:20241103T060000
END:STANDARD
BEGIN:DAYLIGHT
TZOFFSETFROM:-0500
TZOFFSETTO:-0400
TZNAME:EDT
DTSTART:20250309T070000
END:DAYLIGHT
BEGIN:STANDARD
TZOFFSETFROM:-0400
TZOFFSETTO:-0500
TZNAME:EST
DTSTART:20251102T060000
END:STANDARD
BEGIN:DAYLIGHT
TZOFFSETFROM:-0500
TZOFFSETTO:-0400
TZNAME:EDT
DTSTART:20260308T070000
END:DAYLIGHT
BEGIN:STANDARD
TZOFFSETFROM:-0400
TZOFFSETTO:-0500
TZNAME:EST
DTSTART:20261101T060000
END:STANDARD
END:VTIMEZONE
BEGIN:VEVENT
DTSTART;TZID=America/New_York:20250301T170000
DTEND;TZID=America/New_York:20250301T220000
DTSTAMP:20260419T173055
CREATED:20240804T230656Z
LAST-MODIFIED:20250228T212120Z
UID:6472-1740848400-1740866400@richlandfire.com
SUMMARY:2025 Spring Pistol Raffle
DESCRIPTION:$35 Donation \nANY REMAINING TICKETS WILL BE SOLD AT THE DOOR \nDoors open at 5:00 PM—Raffle Starts at 6:00 PM \nIncludes Food & Beverages—Must be 18 or Older to Attend \n\n$1000 Sporting Goods Discounters Gift Card\nColt Defender 1911 SS\, .45ACP\nHenry Big Boy Revolver\, .357 MAG\nSig Sauer P365 XL\, 9mm\nSpringfield Hellcat Pro\, 9mm\nSmith & Wesson M&P Shield M2.0\, .45ACP\nGlock 43X MOS\, 9mm\nTisas 1911 A1 Tank Commander 45ACP \nEAA Windicator\, .357MAG\nSmith & Wesson Bodyguard 2.0\, .380\nSmith & Wesson SD40 2.0\, .40S&W\nRuger Super Wrangler 22 LR/22 WMR\nRuger EC9S\, 9mm\nTaurus G2C\, 9mm\n\nAdditional Gun Raffles Throughout The Day  ·  Pull Tabs \nWOW Table with Guns Valued at $1000! \nMust Present Ticket for Admission — 1 Person per Ticket \nWinner need not be present to win prizes on ticket—Prizes must be claimed within 30 days of event \nCambria County Small Games License # 25-9
URL:https://richlandfire.com/event/2025-spring-pistol-raffle/
LOCATION:Headquarters Station – Scalp Ave\, 1321 Scalp Avenue\, Johnstown\, PA\, 15904\, United States
CATEGORIES:Fundraiser
ATTACH;FMTTYPE=image/jpeg:https://richlandfire.com/wp-content/uploads/2024/08/Screenshot-2025-01-07-171912.jpg
END:VEVENT
BEGIN:VEVENT
DTSTART;TZID=America/New_York:20250315T100000
DTEND;TZID=America/New_York:20250315T150000
DTSTAMP:20260419T173055
CREATED:20240305T181804Z
LAST-MODIFIED:20250221T021911Z
UID:6393-1742032800-1742050800@richlandfire.com
SUMMARY:Spring Craft Show
DESCRIPTION:
URL:https://richlandfire.com/event/spring-craft-show-2/
LOCATION:Headquarters Station – Scalp Ave\, 1321 Scalp Avenue\, Johnstown\, PA\, 15904\, United States
CATEGORIES:Fundraiser
ATTACH;FMTTYPE=image/jpeg:https://richlandfire.com/wp-content/uploads/2024/02/Craft-show.jpg
END:VEVENT
END:VCALENDAR